View In:
ArcGIS JavaScript
ArcGIS Online Map Viewer
ArcGIS Earth
ArcMap
View Footprint In:
ArcGIS Online Map Viewer
Service Description: RASTER/Img_1934
Name: RASTER/Img_1934
Description:
Single Fused Map Cache: false
Extent:
XMin: -8809661.603524573
YMin: 5286073.678905851
XMax: -8782191.602113757
YMax: 5311047.857134015
Spatial Reference: 102100
(3857)
LatestVCSWkid(0)
Initial Extent:
XMin: -8809661.603524573
YMin: 5286073.678905851
XMax: -8782191.602113757
YMax: 5311047.857134015
Spatial Reference: 102100
(3857)
LatestVCSWkid(0)
Full Extent:
XMin: -8809661.603524573
YMin: 5286073.678905851
XMax: -8782191.602113757
YMax: 5311047.857134015
Spatial Reference: 102100
(3857)
LatestVCSWkid(0)
Pixel Size X: 0.6284603388427331
Pixel Size Y: 0.6284551253973198
Band Count: 3
Pixel Type: U8
RasterFunction Infos: {"rasterFunctionInfos": [{
"name": "None",
"description": "",
"help": ""
}]}
Mensuration Capabilities: Basic
Has Histograms: true
Has Colormap: false
Has Multi Dimensions : false
Rendering Rule:
Min Scale: 0
Max Scale: 0
Copyright Text:
Service Data Type: esriImageServiceDataTypeProcessed
Min Values: 0, 0, 0
Max Values: 255, 255, 255
Mean Values: 129.54693796077828, 128.5469873491581, 129.54693796077828
Standard Deviation Values: 37.14640338689944, 37.146303373574916, 37.14640338689944
Object ID Field:
Fields:
None
Default Mosaic Method: Center
Allowed Mosaic Methods:
SortField:
SortValue: null
Mosaic Operator: First
Default Compression Quality: 75
Default Resampling Method: Bilinear
Max Record Count: null
Max Image Height: 4100
Max Image Width: 15000
Max Download Image Count: null
Max Mosaic Image Count: null
Allow Raster Function: true
Allow Copy: null
Allow Analysis: null
Allow Compute TiePoints: false
Supports Statistics: false
Supports Advanced Queries: false
Use StandardizedQueries: true
Raster Type Infos:
Name: Raster Dataset
Description: Supports all ArcGIS Raster Datasets
Help:
Has Raster Attribute Table: false
Edit Fields Info: null
Ownership Based AccessControl For Rasters: null
Child Resources:
Info
Histograms
Key Properties
Legend
Raster Function Infos
Supported Operations:
Export Image
Identify
Measure
Compute Histograms
Compute Statistics Histograms
Get Samples
Compute Class Statistics
Query Boundary
Compute Pixel Location
Compute Angles
Validate
Project